BEGIN:VCALENDAR
VERSION:2.0
PRODID:-//MotorsportReg//iCal 2.0//EN
CALSCALE:GREGORIAN
METHOD:PUBLISH
X-WR-TIMEZONE:US/Pacific
BEGIN:VEVENT
DTSTART:20220529T000000
DTEND:20220531T000000
DTSTAMP:20260420T011731Z
SUMMARY:2022 Tire Rack SCCA Lincoln National Tour
DESCRIPTION:Details: https://solonats.motorsportreg.com/events/2022-tire-rack-scca-lincoln-national-tour-airpark-solo-937333
CATEGORIES:Autocross/Solo
TRANSP:TRANSPARENT
UID:32619613-9DA3-459D-1484B593DC73F3B3-at-MotorsportReg.com
LOCATION:Lincoln Airpark\, Lincoln\, NE US
GEO:40.85015;-96.77004
URL;VALUE=URI:https://solonats.motorsportreg.com/events/2022-tire-rack-scca-lincoln-national-tour-airpark-solo-937333
END:VEVENT
END:VCALENDAR